Workbook

Sheet 17级
A1: 2018-2019-1（12月）
A2: 序号 | B2: 班级 | C2: 辅导员 | D2: 第十四周（12.03-12.07） | E2: 第十五周（12.10-12.14） | F2: 第十六周（12.17-12.21） | G2: 平均出勤率 | H2: 排名
A3: 1 | B3: 金融一 | C3: 刘官青 | D3: 1 | E3: 1 | F3: 1 | G3: =AVERAGE(D3:F3) -> 1 | H3: =RANK(G3,$G$3:$G$65) -> 1
A4: 2 | B4: 金融二 | C4: 刘官青 | D4: 1 | E4: 0.98648649 | F4: 1 | G4: =AVERAGE(D4:F4) -> 0.9954955 | H4: =RANK(G4,$G$3:$G$65) -> 30
A5: 3 | B5: 金融三 | C5: 刘官青 | D5: 1 | E5: 1 | F5: 1 | G5: =AVERAGE(D5:F5) -> 1 | H5: =RANK(G5,$G$3:$G$65) -> 1
A6: 4 | B6: 金融四 | C6: 刘官青 | D6: 0.98763736 | E6: 1 | F6: 1 | G6: =AVERAGE(D6:F6) -> 0.99587912 | H6: =RANK(G6,$G$3:$G$65) -> 28
A7: 5 | B7: 金融五 | C7: 马玺渊 | D7: 0.96521739 | E7: 0.92472991 | F7: 0.98900966 | G7: =AVERAGE(D7:F7) -> 0.95965232 | H7: =RANK(G7,$G$3:$G$65) -> 60
A8: 6 | B8: 金融六 | C8: 杨朝娟 | D8: 1 | E8: 1 | F8: 0.99186992 | G8: =AVERAGE(D8:F8) -> 0.99728997 | H8: =RANK(G8,$G$3:$G$65) -> 25
A9: 7 | B9: 金融七 | C9: 杨梅 | D9: 0.99242424 | E9: 0.99242424 | F9: 1 | G9: =AVERAGE(D9:F9) -> 0.99494949 | H9: =RANK(G9,$G$3:$G$65) -> 32
A10: 8 | B10: 金融八 | C10: 杨梅 | D10: 1 | E10: 1 | F10: 1 | G10: =AVERAGE(D10:F10) -> 1 | H10: =RANK(G10,$G$3:$G$65) -> 1
A11: 9 | B11: 金融九 | C11: 杨梅 | D11: 1 | E11: 1 | F11: 1 | G11: =AVERAGE(D11:F11) -> 1 | H11: =RANK(G11,$G$3:$G$65) -> 1
A12: 10 | B12: 金融十 | C12: 杨梅 | D12: 1 | E12: 1 | F12: 1 | G12: =AVERAGE(D12:F12) -> 1 | H12: =RANK(G12,$G$3:$G$65) -> 1
A13: 11 | B13: CFA | C13: 杨梅 | D13: 0.96899225 | E13: 1 | F13: 0.97674419 | G13: =AVERAGE(D13:F13) -> 0.98191214 | H13: =RANK(G13,$G$3:$G$65) -> 54
A14: 12 | B14: 经济一 | C14: 原芳 | D14: 1 | E14: 1 | F14: 1 | G14: =AVERAGE(D14:F14) -> 1 | H14: =RANK(G14,$G$3:$G$65) -> 1
... A65: 63 | B65: 财务五 | C65: 宋钰静 | D65: 1 | E65: 1 | F65: 1 | G65: =AVERAGE(D65:F65) -> 1 | H65: =RANK(G65,$G$3:$G$65) -> 1

Sheet 18级
A1: 2018-2019-1（12月）
A2: 序号 | B2: 班级 | C2: 辅导员 | D2: 第十四周（12.03-12.07） | E2: 第十五周（12.10-12.14） | F2: 第十六周（12.17-12.21） | G2: 平均出勤率 | H2: 排名
A3: 1 | B3: 金融一 | C3: 徐丽锦 | D3: 1 | E3: 1 | F3: 1 | G3: =AVERAGE(D3:F3) -> 1 | H3: =RANK(G3,$G$3:$G$65) -> 1
A4: 2 | B4: 金融二 | C4: 徐丽锦 | D4: 0.99607843 | E4: 0.99607843 | F4: 0.97607843 | G4: =AVERAGE(D4:F4) -> 0.98941176 | H4: =RANK(G4,$G$3:$G$65) -> 62
A5: 3 | B5: 金融三 | C5: 徐丽锦 | D5: 1 | E5: 1 | F5: 0.98 | G5: =AVERAGE(D5:F5) -> 0.99333333 | H5: =RANK(G5,$G$3:$G$65) -> 54
A6: 4 | B6: 金融四 | C6: 徐丽锦 | D6: 1 | E6: 1 | F6: 1 | G6: =AVERAGE(D6:F6) -> 1 | H6: =RANK(G6,$G$3:$G$65) -> 1
A7: 5 | B7: 金融五 | C7: 徐丽锦 | D7: 1 | E7: 0.98666667 | F7: 1 | G7: =AVERAGE(D7:F7) -> 0.99555556 | H7: =RANK(G7,$G$3:$G$65) -> 49
A8: 6 | B8: 金融六 | C8: 刘朝峰 | D8: 1 | E8: 0.99545455 | F8: 1 | G8: =AVERAGE(D8:F8) -> 0.99848485 | H8: =RANK(G8,$G$3:$G$65) -> 41
A9: 7 | B9: 金融七 | C9: 郑志欣 | D9: 1 | E9: 1 | F9: 1 | G9: =AVERAGE(D9:F9) -> 1 | H9: =RANK(G9,$G$3:$G$65) -> 1
A10: 8 | B10: 金融八 | C10: 郑志欣 | D10: 1 | E10: 1 | F10: 1 | G10: =AVERAGE(D10:F10) -> 1 | H10: =RANK(G10,$G$3:$G$65) -> 1
A11: 9 | B11: 金融九 | C11: 刘官青 | D11: 1 | E11: 1 | F11: 1 | G11: =AVERAGE(D11:F11) -> 1 | H11: =RANK(G11,$G$3:$G$65) -> 1
A12: 10 | B12: 金融十 | C12: 刘官青 | D12: 1 | E12: 1 | F12: 0.99487179 | G12: =AVERAGE(D12:F12) -> 0.9982906 | H12: =RANK(G12,$G$3:$G$65) -> 42
A13: 11 | B13: 金融十一 | C13: 陈力源 | D13: 0.99565217 | E13: 1 | F13: 1 | G13: =AVERAGE(D13:F13) -> 0.99855072 | H13: =RANK(G13,$G$3:$G$65) -> 39
A14: 12 | B14: 金融十二 | C14: 高杨 | D14: 1 | E14: 1 | F14: 1 | G14: =AVERAGE(D14:F14) -> 1 | H14: =RANK(G14,$G$3:$G$65) -> 1
... A65: 63 | B65: 工商七 | C65: 廉然 | D65: 1 | E65: 1 | F65: 1 | G65: =AVERAGE(D65:F65) -> 1 | H65: =RANK(G65,$G$3:$G$65) -> 1

Sheet 总表
A1: 学生早自习出勤统计表（12月）
A2: 院别 | B2: 年级 | C2: 班级 | D2: 辅导员 | E2: 各班平均出勤率 | F2: 各班出勤率排名
A3: 金融学院 | B3: 17 | C3: 金融一 | D3: 刘官青 | E3: ='17级'!G3 -> 1 | F3: ='17级'!H3 -> 1
C4: 金融二 | D4: 刘官青 | E4: ='17级'!G4 -> 0.9954955 | F4: ='17级'!H4 -> 30
C5: 金融三 | D5: 刘官青 | E5: ='17级'!G5 -> 1 | F5: ='17级'!H5 -> 1
C6: 金融四 | D6: 刘官青 | E6: ='17级'!G6 -> 0.99587912 | F6: ='17级'!H6 -> 28
C7: 金融五 | D7: 马玺渊 | E7: ='17级'!G7 -> 0.95965232 | F7: ='17级'!H7 -> 60
C8: 金融六 | D8: 杨朝娟 | E8: ='17级'!G8 -> 0.99728997 | F8: ='17级'!H8 -> 25
C9: 金融七 | D9: 杨梅 | E9: ='17级'!G9 -> 0.99494949 | F9: ='17级'!H9 -> 32
C10: 金融八 | D10: 杨梅 | E10: ='17级'!G10 -> 1 | F10: ='17级'!H10 -> 1
C11: 金融九 | D11: 杨梅 | E11: ='17级'!G11 -> 1 | F11: ='17级'!H11 -> 1
C12: 金融十 | D12: 杨梅 | E12: ='17级'!G12 -> 1 | F12: ='17级'!H12 -> 1
C13: CFA | D13: 杨梅 | E13: ='17级'!G13 -> 0.98191214 | F13: ='17级'!H13 -> 54
A14: 经济学院 | B14: 17 | C14: 经济一 | D14: 原芳 | E14: ='17级'!G14 -> 1 | F14: ='17级'!H14 -> 1
C15: 经济二 | D15: 原芳 | E15: ='17级'!G15 -> 1 | F15: ='17级'!H15 -> 1
C16: 贸经一 | D16: 卢芳冰 | E16: ='17级'!G16 -> 0.99731183 | F16: ='17级'!H16 -> 24
C17: 贸经二 | D17: 唐燕 | E17: ='17级'!G17 -> 0.94083572 | F17: ='17级'!H17 -> 62
C18: 经统 | D18: 何春 | E18: ='17级'!G18 -> 0.99483204 | F18: ='17级'!H18 -> 34
A19: 商务学院 | B19: 17 | C19: 网新一 | D19: 汤璐嘉 | E19: ='17级'!G19 -> 0.98523398 | F19: ='17级'!H19 -> 51
C20: 网新二 | D20: 汤璐嘉 | E20: ='17级'!G20 -> 0.97037037 | F20: ='17级'!H20 -> 59
C21: 会展一 | D21: 冉光波 | E21: ='17级'!G21 -> 0.98958333 | F21: ='17级'!H21 -> 46
C22: 会展二 | D22: 冉光波 | E22: ='17级'!G22 -> 1 | F22: ='17级'!H22 -> 1
C23: 国贸 | D23: 寸家菊 | E23: ='17级'!G23 -> 1 | F23: ='17级'!H23 -> 1
C24: 国商 | D24: 李慧 | E24: ='17级'!G24 -> 0.98263889 | F24: ='17级'!H24 -> 53
A25: 会计学院 | B25: 17 | C25: 会计一 | D25: 谭白冰 | E25: ='17级'!G25 -> 0.99224806 | F25: ='17级'!H25 -> 40
C26: 会计二 | D26: 谭白冰 | E26: ='17级'!G26 -> 0.98765432 | F26: ='17级'!H26 -> 49
C27: 会计三 | D27: 谭白冰 | E27: ='17级'!G27 -> 1 | F27: ='17级'!H27 -> 1
C28: 会计四 | D28: 谭白冰 | E28: ='17级'!G28 -> 0.98309179 | F28: ='17级'!H28 -> 52
C29: 会计五 | D29: 谭白冰 | E29: ='17级'!G29 -> 1 | F29: ='17级'!H29 -> 1
C30: 会计六 | D30: 谭白冰 | E30: ='17级'!G30 -> 1 | F30: ='17级'!H30 -> 1
C31: 会计七 | D31: 王秀霞 | E31: ='17级'!G31 -> 0.99242424 | F31: ='17级'!H31 -> 39
C32: 会计八 | D32: 韩佳佚 | E32: ='17级'!G32 -> 0.997151 | F32: ='17级'!H32 -> 26
C33: 会计九 | D33: 唐嘉忆 | E33: ='17级'!G33 -> 0.98674797 | F33: ='17级'!H33 -> 50
C34: 审计一 | D34: 游登贵 | E34: ='17级'!G34 -> 1 | F34: ='17级'!H34 -> 1
C35: 审计二 | D35: 游登贵 | E35: ='17级'!G35 -> 1 | F35: ='17级'!H35 -> 1
C36: 审计三 | D36: 曹莉莉 | E36: ='17级'!G36 -> 0.99319444 | F36: ='17级'!H36 -> 37
C37: 审计四 | D37: 范雪林 | E37: ='17级'!G37 -> 1 | F37: ='17级'!H37 -> 1
... C40: ACCA | D40: 刘贤洲 | E40: ='17级'!G40 -> 0.97382099 | F40: ='17级'!H40 -> 57
A41: 管理工程学院 | B41: 17 | C41: 工程一 | D41: 练丹 | E41: ='17级'!G41 -> 0.89396211 | F41: ='17级'!H41 -> 63
C42: 工程二 | D42: 练丹 | E42: ='17级'!G42 -> 0.99512195 | F42: ='17级'!H42 -> 31
C43: 物业 | D43: 练丹 | E43: ='17级'!G43 -> 0.9957265 | F43: ='17级'!H43 -> 29
C44: 房产 | D44: 练丹 | E44: ='17级'!G44 -> 0.95037879 | F44: ='17级'!H44 -> 61
A45: 信息工程学院 | B45: 17 | C45: 城管 | D45: 常晓薇 | E45: ='17级'!G45 -> 0.99294355 | F45: ='17级'!H45 -> 38
C46: 土管 | D46: 何建旭 | E46: ='17级'!G46 -> 1 | F46: ='17级'!H46 -> 1
C47: 信息 | D47: 何建旭 | E47: ='17级'!G47 -> 0.99019608 | F47: ='17级'!H47 -> 44
C48: 软件 | D48: 何建旭 | E48: ='17级'!G48 -> 0.99415205 | F48: ='17级'!H48 -> 35
C49: 惠软一 | D49: 何建旭 | E49: ='17级'!G49 -> 0.99346405 | F49: ='17级'!H49 -> 36
C50: 惠件二 | D50: 梁建良 | E50: ='17级'!G50 -> 0.99809524 | F50: ='17级'!H50 -> 20
A51: 物流工程学院 | B51: 17 | C51: 物流一 | D51: 王夏颖 | E51: ='17级'!G51 -> 0.99160207 | F51: ='17级'!H51 -> 42
C52: 物流二 | D52: 王夏颖 | E52: ='17级'!G52 -> 0.99074074 | F52: ='17级'!H52 -> 43
C53: 物流三 | D53: 王夏颖 | E53: ='17级'!G53 -> 0.98984026 | F53: ='17级'!H53 -> 45
C54: 物流四 | D54: 王夏颖 | E54: ='17级'!G54 -> 0.97204325 | F54: ='17级'!H54 -> 58
C55: 电商一 | D55: 冯海涛 | E55: ='17级'!G55 -> 0.98172757 | F55: ='17级'!H55 -> 55
C56: 电商二 | D56: 冯海涛 | E56: ='17级'!G56 -> 0.98822101 | F56: ='17级'!H56 -> 48
C57: 物流工程 | D57: 冯海涛 | E57: ='17级'!G57 -> 1 | F57: ='17级'!H57 -> 1
C58: 工业工程 | D58: 冯海涛 | E58: ='17级'!G58 -> 0.99166667 | F58: ='17级'!H58 -> 41
A59: 财富管理学院 | B59: 17 | C59: 财务一 | D59: 薛超 | E59: ='17级'!G59 -> 0.99758454 | F59: ='17级'!H59 -> 21
C60: 财务二 | D60: 薛超 | E60: ='17级'!G60 -> 0.99758454 | F60: ='17级'!H60 -> 21
C61: 财务三 | D61: 薛超 | E61: ='17级'!G61 -> 0.98958333 | F61: ='17级'!H61 -> 46
C62: 财务四 | D62: 薛超 | E62: ='17级'!G62 -> 1 | F62: ='17级'!H62 -> 1
C63: 资评一 | D63: 薛超 | E63: ='17级'!G63 -> 0.97897898 | F63: ='17级'!H63 -> 56
C64: 资评二 | D64: 薛超 | E64: ='17级'!G64 -> 0.99691358 | F64: ='17级'!H64 -> 27
C65: 财务五 | D65: 宋钰静 | E65: ='17级'!G65 -> 1 | F65: ='17级'!H65 -> 1
A67: 金融学院 | B67: 18 | C67: 金融一 | D67: 徐丽锦 | E67: ='18级'!G3 -> 1 | F67: ='18级'!H3 -> 1
C68: 金融二 | D68: 徐丽锦 | E68: ='18级'!G4 -> 0.98941176 | F68: ='18级'!H4 -> 62
C69: 金融三 | D69: 徐丽锦 | E69: ='18级'!G5 -> 0.99333333 | F69: ='18级'!H5 -> 54
C70: 金融四 | D70: 徐丽锦 | E70: ='18级'!G6 -> 1 | F70: ='18级'!H6 -> 1
C71: 金融五 | D71: 徐丽锦 | E71: ='18级'!G7 -> 0.99555556 | F71: ='18级'!H7 -> 49
C72: 金融六 | D72: 刘朝峰 | E72: ='18级'!G8 -> 0.99848485 | F72: ='18级'!H8 -> 41
C73: 金融七 | D73: 郑志欣 | E73: ='18级'!G9 -> 1 | F73: ='18级'!H9 -> 1
C74: 金融八 | D74: 郑志欣 | E74: ='18级'!G10 -> 1 | F74: ='18级'!H10 -> 1
C75: 金融九 | D75: 刘官青 | E75: ='18级'!G11 -> 1 | F75: ='18级'!H11 -> 1
C76: 金融十 | D76: 刘官青 | E76: ='18级'!G12 -> 0.9982906 | F76: ='18级'!H12 -> 42
C77: 金融十一 | D77: 陈力源 | E77: ='18级'!G13 -> 0.99855072 | F77: ='18级'!H13 -> 39
C78: 金融十二 | D78: 高杨 | E78: ='18级'!G14 -> 1 | F78: ='18级'!H14 -> 1
C79: CFA | D79: 徐丽锦 | E79: ='18级'!G15 -> 0.99622642 | F79: ='18级'!H15 -> 48
A80: 经济学院 | B80: 18 | C80: 经济一 | D80: 刘子兮 | E80: ='18级'!G16 -> 0.99858156 | F80: ='18级'!H16 -> 38
C81: 经济二 | D81: 刘子兮 | E81: ='18级'!G17 -> 1 | F81: ='18级'!H17 -> 1
C82: 经贸一 | D82: 刘子兮 | E82: ='18级'!G18 -> 1 | F82: ='18级'!H18 -> 1
C83: 经贸二 | D83: 刘子兮 | E83: ='18级'!G19 -> 1 | F83: ='18级'!H19 -> 1
C84: 经统 | D84: 李兴玲 | E84: ='18级'!G20 -> 1 | F84: ='18级'!H20 -> 1
A85: 商务学院 | B85: 18 | C85: 出版 | D85: 徐繁生 | E85: ='18级'!G21 -> 1 | F85: ='18级'!H21 -> 1
C86: 会展 | D86: 徐繁生 | E86: ='18级'!G22 -> 1 | F86: ='18级'!H22 -> 1
C87: 网新一 | D87: 汤璐嘉 | E87: ='18级'!G23 -> 0.99197279 | F87: ='18级'!H23 -> 60
C88: 网新二 | D88: 汤璐嘉 | E88: ='18级'!G24 -> 0.99333333 | F88: ='18级'!H24 -> 54
A89: 会计学院 | B89: 18 | C89: ACCA | D89: 唐凤芬 | E89: ='18级'!G25 -> 0.99461224 | F89: ='18级'!H25 -> 52
C90: 会计一 | D90: 唐凤芬 | E90: ='18级'!G26 -> 0.99333333 | F90: ='18级'!H26 -> 54
C91: 会计二 | D91: 唐凤芬 | E91: ='18级'!G27 -> 0.99333333 | F91: ='18级'!H27 -> 54
C92: 会计三 | D92: 唐凤芬 | E92: ='18级'!G28 -> 0.99333333 | F92: ='18级'!H28 -> 54
C93: 会计四 | D93: 唐凤芬 | E93: ='18级'!G29 -> 0.9942029 | F93: ='18级'!H29 -> 53
C94: 会计五 | D94: 唐凤芬 | E94: ='18级'!G30 -> 1 | F94: ='18级'!H30 -> 1
C95: 会计六 | D95: 陈绪娟 | E95: ='18级'!G31 -> 0.99855072 | F95: ='18级'!H31 -> 39
C96: 会计七 | D96: 许静 | E96: ='18级'!G32 -> 0.99689922 | F96: ='18级'!H32 -> 45
C97: 会计八 | D97: 陈晨 | E97: ='18级'!G33 -> 1 | F97: ='18级'!H33 -> 1
C98: 会计九 | D98: 陈晨 | E98: ='18级'!G34 -> 1 | F98: ='18级'!H34 -> 1
C99: 会计十 | D99: 游登贵 | E99: ='18级'!G35 -> 1 | F99: ='18级'!H35 -> 1
C100: 审计一 | D100: 游登贵 | E100: ='18级'!G36 -> 1 | F100: ='18级'!H36 -> 1
C101: 审计二 | D101: 游登贵 | E101: ='18级'!G37 -> 1 | F101: ='18级'!H37 -> 1
... C103: 税收 | D103: 徐诗意 | E103: ='18级'!G39 -> 1 | F103: ='18级'!H39 -> 1
A104: 管理工程学院 | B104: 18 | C104: 管理一 | D104: 姜采妮 | E104: ='18级'!G40 -> 1 | F104: ='18级'!H40 -> 1
...
