Workbook

Sheet 17级
A1: 2018-2019-1（12月）
A2: 序号 | B2: 班级 | C2: 辅导员 | D2: 第十四周（12.03-12.07） | E2: 第十五周（12.10-12.14） | F2: 第十六周（12.17-12.21） | G2: 平均出勤率 | H2: 排名
A3: 1 | B3: 金融一 | C3: 刘官青 | D3: 1 | E3: 1 | F3: 1 | G3: =AVERAGE(D3:F3) -> 1 | H3: =RANK(G3,$G$3:$G$65) -> 1
A4: 2 | B4: 金融二 | C4: 刘官青 | D4: 1 | E4: 0.98648649 | F4: 1 | G4: =AVERAGE(D4:F4) -> 0.9954955 | H4: =RANK(G4,$G$3:$G$65) -> 30
A5: 3 | B5: 金融三 | C5: 刘官青 | D5: 1 | E5: 1 | F5: 1 | G5: =AVERAGE(D5:F5) -> 1 | H5: =RANK(G5,$G$3:$G$65) -> 1
A6: 4 | B6: 金融四 | C6: 刘官青 | D6: 0.98763736 | E6: 1 | F6: 1 | G6: =AVERAGE(D6:F6) -> 0.99587912 | H6: =RANK(G6,$G$3:$G$65) -> 28
A7: 5 | B7: 金融五 | C7: 马玺渊 | D7: 0.96521739 | E7: 0.92472991 | F7: 0.98900966 | G7: =AVERAGE(D7:F7) -> 0.95965232 | H7: =RANK(G7,$G$3:$G$65) -> 60
A8: 6 | B8: 金融六 | C8: 杨朝娟 | D8: 1 | E8: 1 | F8: 0.99186992 | G8: =AVERAGE(D8:F8) -> 0.99728997 | H8: =RANK(G8,$G$3:$G$65) -> 25
A9: 7 | B9: 金融七 | C9: 杨梅 | D9: 0.99242424 | E9: 0.99242424 | F9: 1 | G9: =AVERAGE(D9:F9) -> 0.99494949 | H9: =RANK(G9,$G$3:$G$65) -> 32
A10: 8 | B10: 金融八 | C10: 杨梅 | D10: 1 | E10: 1 | F10: 1 | G10: =AVERAGE(D10:F10) -> 1 | H10: =RANK(G10,$G$3:$G$65) -> 1
A11: 9 | B11: 金融九 | C11: 杨梅 | D11: 1 | E11: 1 | F11: 1 | G11: =AVERAGE(D11:F11) -> 1 | H11: =RANK(G11,$G$3:$G$65) -> 1
A12: 10 | B12: 金融十 | C12: 杨梅 | D12: 1 | E12: 1 | F12: 1 | G12: =AVERAGE(D12:F12) -> 1 | H12: =RANK(G12,$G$3:$G$65) -> 1
A13: 11 | B13: CFA | C13: 杨梅 | D13: 0.96899225 | E13: 1 | F13: 0.97674419 | G13: =AVERAGE(D13:F13) -> 0.98191214 | H13: =RANK(G13,$G$3:$G$65) -> 54
A14: 12 | B14: 经济一 | C14: 原芳 | D14: 1 | E14: 1 | F14: 1 | G14: =AVERAGE(D14:F14) -> 1 | H14: =RANK(G14,$G$3:$G$65) -> 1
... A65: 63 | B65: 财务五 | C65: 宋钰静 | D65: 1 | E65: 1 | F65: 1 | G65: =AVERAGE(D65:F65) -> 1 | H65: =RANK(G65,$G$3:$G$65) -> 1

Sheet 18级
A1: 2018-2019-1（12月）
A2: 序号 | B2: 班级 | C2: 辅导员 | D2: 第十四周（12.03-12.07） | E2: 第十五周（12.10-12.14） | F2: 第十六周（12.17-12.21） | G2: 平均出勤率 | H2: 排名
A3: 1 | B3: 金融一 | C3: 徐丽锦 | D3: 1 | E3: 1 | F3: 1 | G3: =AVERAGE(D3:F3) -> 1 | H3: =RANK(G3,$G$3:$G$65) -> 1
A4: 2 | B4: 金融二 | C4: 徐丽锦 | D4: 0.99607843 | E4: 0.99607843 | F4: 0.97607843 | G4: =AVERAGE(D4:F4) -> 0.98941176 | H4: =RANK(G4,$G$3:$G$65) -> 62
A5: 3 | B5: 金融三 | C5: 徐丽锦 | D5: 1 | E5: 1 | F5: 0.98 | G5: =AVERAGE(D5:F5) -> 0.99333333 | H5: =RANK(G5,$G$3:$G$65) -> 54
A6: 4 | B6: 金融四 | C6: 徐丽锦 | D6: 1 | E6: 1 | F6: 1 | G6: =AVERAGE(D6:F6) -> 1 | H6: =RANK(G6,$G$3:$G$65) -> 1
A7: 5 | B7: 金融五 | C7: 徐丽锦 | D7: 1 | E7: 0.98666667 | F7: 1 | G7: =AVERAGE(D7:F7) -> 0.99555556 | H7: =RANK(G7,$G$3:$G$65) -> 49
A8: 6 | B8: 金融六 | C8: 刘朝峰 | D8: 1 | E8: 0.99545455 | F8: 1 | G8: =AVERAGE(D8:F8) -> 0.99848485 | H8: =RANK(G8,$G$3:$G$65) -> 41
A9: 7 | B9: 金融七 | C9: 郑志欣 | D9: 1 | E9: 1 | F9: 1 | G9: =AVERAGE(D9:F9) -> 1 | H9: =RANK(G9,$G$3:$G$65) -> 1
A10: 8 | B10: 金融八 | C10: 郑志欣 | D10: 1 | E10: 1 | F10: 1 | G10: =AVERAGE(D10:F10) -> 1 | H10: =RANK(G10,$G$3:$G$65) -> 1
A11: 9 | B11: 金融九 | C11: 刘官青 | D11: 1 | E11: 1 | F11: 1 | G11: =AVERAGE(D11:F11) -> 1 | H11: =RANK(G11,$G$3:$G$65) -> 1
A12: 10 | B12: 金融十 | C12: 刘官青 | D12: 1 | E12: 1 | F12: 0.99487179 | G12: =AVERAGE(D12:F12) -> 0.9982906 | H12: =RANK(G12,$G$3:$G$65) -> 42
A13: 11 | B13: 金融十一 | C13: 陈力源 | D13: 0.99565217 | E13: 1 | F13: 1 | G13: =AVERAGE(D13:F13) -> 0.99855072 | H13: =RANK(G13,$G$3:$G$65) -> 39
A14: 12 | B14: 金融十二 | C14: 高杨 | D14: 1 | E14: 1 | F14: 1 | G14: =AVERAGE(D14:F14) -> 1 | H14: =RANK(G14,$G$3:$G$65) -> 1
... A65: 63 | B65: 工商七 | C65: 廉然 | D65: 1 | E65: 1 | F65: 1 | G65: =AVERAGE(D65:F65) -> 1 | H65: =RANK(G65,$G$3:$G$65) -> 1

Sheet 总表
A1: 学生早自习出勤统计表（12月）
A2: 院别 | B2: 年级 | C2: 班级 | D2: 辅导员 | E2: 各班平均出勤率 | F2: 各班出勤率排名
A3: 金融学院 | B3: 17 | C3: 金融一 | D3: 刘官青 | E3: ='17级'!G3 -> 1 | F3: ='17级'!H3 -> 1
C4: 金融二 | D4: 刘官青 | E4: ='17级'!G4 -> 0.9954955 | F4: ='17级'!H4 -> 30
C5: 金融三 | D5: 刘官青 | E5: ='17级'!G5 -> 1 | F5: ='17级'!H5 -> 1
C6: 金融四 | D6: 刘官青 | E6: ='17级'!G6 -> 0.99587912 | F6: ='17级'!H6 -> 28
C7: 金融五 | D7: 马玺渊 | E7: ='17级'!G7 -> 0.95965232 | F7: ='17级'!H7 -> 60
C8: 金融六 | D8: 杨朝娟 | E8: ='17级'!G8 -> 0.99728997 | F8: ='17级'!H8 -> 25
C9: 金融七 | D9: 杨梅 | E9: ='17级'!G9 -> 0.99494949 | F9: ='17级'!H9 -> 32
C10: 金融八 | D10: 杨梅 | E10: ='17级'!G10 -> 1 | F10: ='17级'!H10 -> 1
C11: 金融九 | D11: 杨梅 | E11: ='17级'!G11 -> 1 | F11: ='17级'!H11 -> 1
C12: 金融十 | D12: 杨梅 | E12: ='17级'!G12 -> 1 | F12: ='17级'!H12 -> 1
C13: CFA | D13: 杨梅 | E13: ='17级'!G13 -> 0.98191214 | F13: ='17级'!H13 -> 54
A14: 经济学院 | B14: 17 | C14: 经济一 | D14: 原芳 | E14: ='17级'!G14 -> 1 | F14: ='17级'!H14 -> 1
C15: 经济二 | D15: 原芳 | E15: ='17级'!G15 -> 1 | F15: ='17级'!H15 -> 1
C16: 贸经一 | D16: 卢芳冰 | E16: ='17级'!G16 -> 0.99731183 | F16: ='17级'!H16 -> 24
C17: 贸经二 | D17: 唐燕 | E17: ='17级'!G17 -> 0.94083572 | F17: ='17级'!H17 -> 62
C18: 经统 | D18: 何春 | E18: ='17级'!G18 -> 0.99483204 | F18: ='17级'!H18 -> 34
A19: 商务学院 | B19: 17 | C19: 网新一 | D19: 汤璐嘉 | E19: ='17级'!G19 -> 0.98523398 | F19: ='17级'!H19 -> 51
C20: 网新二 | D20: 汤璐嘉 | E20: ='17级'!G20 -> 0.97037037 | F20: ='17级'!H20 -> 59
C21: 会展一 | D21: 冉光波 | E21: ='17级'!G21 -> 0.98958333 | F21: ='17级'!H21 -> 46
C22: 会展二 | D22: 冉光波 | E22: ='17级'!G22 -> 1 | F22: ='17级'!H22 -> 1
C23: 国贸 | D23: 寸家菊 | E23: ='17级'!G23 -> 1 | F23: ='17级'!H23 -> 1
C24: 国商 | D24: 李慧 | E24: ='17级'!G24 -> 0.98263889 | F24: ='17级'!H24 -> 53
A25: 会计学院 | B25: 17 | C25: 会计一 | D25: 谭白冰 | E25: ='17级'!G25 -> 0.99224806 | F25: ='17级'!H25 -> 40
C26: 会计二 | D26: 谭白冰 | E26: ='17级'!G26 -> 0.98765432 | F26: ='17级'!H26 -> 49
C27: 会计三 | D27: 谭白冰 | E27: ='17级'!G27 -> 1 | F27: ='17级'!H27 -> 1
C28: 会计四 | D28: 谭白冰 | E28: ='17级'!G28 -> 0.98309179 | F28: ='17级'!H28 -> 52
C29: 会计五 | D29: 谭白冰 | E29: ='17级'!G29 -> 1 | F29: ='17级'!H29 -> 1
C30: 会计六 | D30: 谭白冰 | E30: ='17级'!G30 -> 1 | F30: ='17级'!H30 -> 1
C31: 会计七 | D31: 王秀霞 | E31: ='17级'!G31 -> 0.99242424 | F31: ='17级'!H31 -> 39
C32: 会计八 | D32: 韩佳佚 | E32: ='17级'!G32 -> 0.997151 | F32: ='17级'!H32 -> 26
C33: 会计九 | D33: 唐嘉忆 | E33: ='17级'!G33 -> 0.98674797 | F33: ='17级'!H33 -> 50
C34: 审计一 | D34: 游登贵 | E34: ='17级'!G34 -> 1 | F34: ='17级'!H34 -> 1
C35: 审计二 | D35: 游登贵 | E35: ='17级'!G35 -> 1 | F35: ='17级'!H35 -> 1
C36: 审计三 | D36: 曹莉莉 | E36: ='17级'!G36 -> 0.99319444 | F36: ='17级'!H36 -> 37
C37: 审计四 | D37: 范雪林 | E37: ='17级'!G37 -> 1 | F37: ='17级'!H37 -> 1
... C40: ACCA | D40: 刘贤洲 | E40: ='17级'!G40 -> 0.97382099 | F40: ='17级'!H40 -> 57
A41: 管理工程学院 | B41: 17 | C41: 工程一 | D41: 练丹 | E41: ='17级'!G41 -> 0.89396211 | F41: ='17级'!H41 -> 63
C42: 工程二 | D42: 练丹 | E42: ='17级'!G42 -> 0.99512195 | F42: ='17级'!H42 -> 31
...
