Workbook

Sheet 15级
A1: 2017-2018-2（第四周）
A2: 序号 | B2: 15级班级 | C2: 辅导员 | D2: 3.26 | E2: 3.27 | F2: 3.28 | G2: 3.29 | H2: 3.3 | I2: 平均出勤率 | J2: 排名
A3: 1 | B3: 银管一 | C3: 李静 | H3: 0.86904762 | I3: =AVERAGE(D3:H3) -> 0.86904762 | J3: =RANK(I3,$I$3:$I$60) -> 18
A4: 2 | B4: 银管二 | C4: 孙鹤 | H4: 0.86904762 | I4: =AVERAGE(D4:H4) -> 0.86904762 | J4: =RANK(I4,$I$3:$I$60) -> 18
A5: 3 | B5: 银管三 | C5: 于成江 | H5: 0.90769231 | I5: =AVERAGE(D5:H5) -> 0.90769231 | J5: =RANK(I5,$I$3:$I$60) -> 10
A6: 4 | B6: 期证一 | C6: 张孝英
A7: 5 | B7: 期证二 | C7: 张孝英
A8: 6 | B8: 车险 | C8: 蔡婷
A9: 7 | B9: 理财 | C9: 蔡婷 | E9: 0.84090909 | I9: =AVERAGE(D9:H9) -> 0.84090909 | J9: =RANK(I9,$I$3:$I$60) -> 22
A10: 8 | B10: CFA | C10: 张玉华 | F10: 0.61904762 | I10: =AVERAGE(D10:H10) -> 0.61904762 | J10: =RANK(I10,$I$3:$I$60) -> 25
A11: 9 | B11: 信用一 | C11: 李英
A12: 10 | B12: 信用二 | C12: 李英
A13: 11 | B13: 贸经一 | C13: 杨邓旗
A14: 12 | B14: 贸经二 | C14: 杨邓旗
A15: 13 | B15: 经统一 | C15: 杨邓旗 | D15: 0.98701299 | I15: =AVERAGE(D15:H15) -> 0.98701299 | J15: =RANK(I15,$I$3:$I$60) -> 1
A16: 14 | B16: 经统二 | C16: 杨邓旗 | D16: 0.98701299 | I16: =AVERAGE(D16:H16) -> 0.98701299 | J16: =RANK(I16,$I$3:$I$60) -> 1
A17: 15 | B17: 经济一 | C17: 乐晓勇 | F17: 0.90540541 | I17: =AVERAGE(D17:H17) -> 0.90540541 | J17: =RANK(I17,$I$3:$I$60) -> 12
A18: 16 | B18: 经济二 | C18: 夏文瑞 | F18: 0.90540541 | I18: =AVERAGE(D18:H18) -> 0.90540541 | J18: =RANK(I18,$I$3:$I$60) -> 12
A19: 17 | B19: 会展一 | C19: 冉光波 | E19: 0.95833333 | G19: 0.91666667 | I19: =AVERAGE(D19:H19) -> 0.9375 | J19: =RANK(I19,$I$3:$I$60) -> 8
A20: 18 | B20: 会展二 | C20: 冉光波 | E20: 0.95833333 | G20: 0.91666667 | I20: =AVERAGE(D20:H20) -> 0.9375 | J20: =RANK(I20,$I$3:$I$60) -> 8
A21: 19 | B21: 国贸一 | C21: 冉光波
A22: 20 | B22: 国贸二 | C22: 冉光波
A23: 21 | B23: 国商 | C23: 高雪莲
A24: 22 | B24: 网新二 | C24: 杨邓旗
A25: 23 | B25: 网新一 | C25: 袁毅
A26: 24 | B26: 工管二 | C26: 胡翠 | D26: 0.8974359 | I26: =AVERAGE(D26:H26) -> 0.8974359 | J26: =RANK(I26,$I$3:$I$60) -> 14
A27: 25 | B27: 房产一 | C27: 刘有沛 | D27: 0.93846154 | I27: =AVERAGE(D27:H27) -> 0.93846154 | J27: =RANK(I27,$I$3:$I$60) -> 6
A28: 26 | B28: 物业 | C28: 冯晖 | H28: 0.90769231 | I28: =AVERAGE(D28:H28) -> 0.90769231 | J28: =RANK(I28,$I$3:$I$60) -> 10
A29: 27 | B29: 房产二 | C29: 练丹 | D29: 0.93846154 | I29: =AVERAGE(D29:H29) -> 0.93846154 | J29: =RANK(I29,$I$3:$I$60) -> 6
A30: 28 | B30: 工管一 | C30: 练丹 | D30: 0.8974359 | I30: =AVERAGE(D30:H30) -> 0.8974359 | J30: =RANK(I30,$I$3:$I$60) -> 14
A31: 29 | B31: 土管二 | C31: 汪建军
A32: 30 | B32: 信息 | C32: 徐丹丹 | D32: 0.96969697 | I32: =AVERAGE(D32:H32) -> 0.96969697 | J32: =RANK(I32,$I$3:$I$60) -> 3
A33: 31 | B33: 土管一 | C33: 姜采妮
A34: 32 | B34: 城管 | C34: 马惠香
A35: 33 | B35: ACCA | C35: 李秋河 | F35: 0.61904762 | I35: =AVERAGE(D35:H35) -> 0.61904762 | J35: =RANK(I35,$I$3:$I$60) -> 25
A36: 34 | B36: 会计一 | C36: 李秋河 | E36: 0.9537037 | I36: =AVERAGE(D36:H36) -> 0.9537037 | J36: =RANK(I36,$I$3:$I$60) -> 4
A37: 35 | B37: 会计二 | C37: 李秋河 | E37: 0.9537037 | I37: =AVERAGE(D37:H37) -> 0.9537037 | J37: =RANK(I37,$I$3:$I$60) -> 4
A38: 36 | B38: 会计三 | C38: 李秋河
A39: 37 | B39: 审计一 | C39: 陈倩茹
A40: 38 | B40: 审计二 | C40: 陈倩茹
...

Sheet 16级
A1: 2017-2018-2（第四周）
A2: 序号 | B2: 16级班级 | C2: 辅导员 | D2: 3.26 | E2: 3.27 | F2: 3.28 | G2: 3.29 | H2: 3.3 | I2: 平均出勤率 | J2: 排名
A3: 1 | B3: 银管一 | C3: 马秋婵 | D3: 0.99 | I3: =AVERAGE(D3:H3) -> 0.99 | J3: =RANK(I3,$I$3:$I$65) -> 1
A4: 2 | B4: 银管二 | C4: 马秋婵 | D4: 0.99 | I4: =AVERAGE(D4:H4) -> 0.99 | J4: =RANK(I4,$I$3:$I$65) -> 1
A5: 3 | B5: 期证一 | C5: 马秋婵
A6: 4 | B6: 期证二 | C6: 马秋婵
A7: 5 | B7: 期证三 | C7: 马秋婵
A8: 6 | B8: 信用一 | C8: 郑志欣 | H8: 0.9375 | I8: =AVERAGE(D8:H8) -> 0.9375 | J8: =RANK(I8,$I$3:$I$65) -> 17
A9: 7 | B9: 信用二 | C9: 郑志欣 | H9: 0.9375 | I9: =AVERAGE(D9:H9) -> 0.9375 | J9: =RANK(I9,$I$3:$I$65) -> 17
A10: 8 | B10: 车险 | C10: 郑志欣 | F10: 0.95714286 | I10: =AVERAGE(D10:H10) -> 0.95714286 | J10: =RANK(I10,$I$3:$I$65) -> 9
A11: 9 | B11: 理财 | C11: 郑志欣 | F11: 0.95714286 | I11: =AVERAGE(D11:H11) -> 0.95714286 | J11: =RANK(I11,$I$3:$I$65) -> 9
A12: 10 | B12: 16CFA | C12: 林姝妤 | F12: 0.95833333 | I12: =AVERAGE(D12:H12) -> 0.95833333 | J12: =RANK(I12,$I$3:$I$65) -> 8
A13: 11 | B13: 经济一 | C13: 原芳
A14: 12 | B14: 经济二 | C14: 原芳
A15: 13 | B15: 经统一 | C15: 原芳 | G15: 0.93846154 | I15: =AVERAGE(D15:H15) -> 0.93846154 | J15: =RANK(I15,$I$3:$I$65) -> 15
A16: 14 | B16: 经统二 | C16: 原芳 | G16: 0.93846154 | I16: =AVERAGE(D16:H16) -> 0.93846154 | J16: =RANK(I16,$I$3:$I$65) -> 15
A17: 15 | B17: 贸经一 | C17: 刘小双 | F17: 0.94117647 | I17: =AVERAGE(D17:H17) -> 0.94117647 | J17: =RANK(I17,$I$3:$I$65) -> 13
A18: 16 | B18: 贸经二 | C18: 潘佳 | F18: 0.94117647 | I18: =AVERAGE(D18:H18) -> 0.94117647 | J18: =RANK(I18,$I$3:$I$65) -> 13
A19: 17 | B19: 国商一 | C19: 杨政
A20: 18 | B20: 国商二 | C20: 邓雅娴
A21: 19 | B21: 会展一 | C21: 张文博 | G21: 0.94202899 | I21: =AVERAGE(D21:H21) -> 0.94202899 | J21: =RANK(I21,$I$3:$I$65) -> 11
A22: 20 | B22: 会展二 | C22: 冉光波 | G22: 0.94202899 | I22: =AVERAGE(D22:H22) -> 0.94202899 | J22: =RANK(I22,$I$3:$I$65) -> 11
A23: 21 | B23: 国贸一 | C23: 徐繁生 | H23: 0.91463415 | I23: =AVERAGE(D23:H23) -> 0.91463415 | J23: =RANK(I23,$I$3:$I$65) -> 19
A24: 22 | B24: 国贸二 | C24: 冉光波 | H24: 0.91463415 | I24: =AVERAGE(D24:H24) -> 0.91463415 | J24: =RANK(I24,$I$3:$I$65) -> 19
A25: 23 | B25: 网新一 | C25: 杨政
A26: 24 | B26: 网新二 | C26: 曹型丽
A27: 25 | B27: 会计一 | C27: 颜萌萌
A28: 26 | B28: 会计二 | C28: 颜萌萌
A29: 27 | B29: 会计三 | C29: 颜萌萌
A30: 28 | B30: 会计四 | C30: 颜萌萌
A31: 29 | B31: 会计五 | C31: 陈影
A32: 30 | B32: 会计六 | C32: 颜萌萌
A33: 31 | B33: 会计七 | C33: 王立华
A34: 32 | B34: 会计八 | C34: 颜萌萌
A35: 33 | B35: 审计一 | C35: 陈倩茹
A36: 34 | B36: 审计二 | C36: 陈倩茹
A37: 35 | B37: 审计三 | C37: 刘璐静 | G37: 0.97777778 | I37: =AVERAGE(D37:H37) -> 0.97777778 | J37: =RANK(I37,$I$3:$I$65) -> 5
A38: 36 | B38: 审计四 | C38: 李军 | G38: 0.97777778 | I38: =AVERAGE(D38:H38) -> 0.97777778 | J38: =RANK(I38,$I$3:$I$65) -> 5
A39: 37 | B39: 税收一 | C39: 李刚
A40: 38 | B40: 税收二 | C40: 刘艳娇
...

Sheet 17级
A1: 2017-2018-2（第四周）
A2: 序号 | B2: 班级 | C2: 辅导员 | D2: 3.26 | E2: 3.27 | F2: 3.28 | G2: 3.29 | H2: 3.3 | I2: 平均出勤率 | J2: 排名
A3: 1 | B3: 金融一 | C3: 刘官青 | E3: 1 | I3: =AVERAGE(D3:H3) -> 1 | J3: =RANK(I3,$I$3:$I$65) -> 1
A4: 2 | B4: 金融二 | C4: 刘官青
A5: 3 | B5: 金融三 | C5: 刘官青 | E5: 1 | I5: =AVERAGE(D5:H5) -> 1 | J5: =RANK(I5,$I$3:$I$65) -> 1
A6: 4 | B6: 金融四 | C6: 刘官青 | E6: 1 | I6: =AVERAGE(D6:H6) -> 1 | J6: =RANK(I6,$I$3:$I$65) -> 1
A7: 5 | B7: 金融五 | C7: 马玺渊
A8: 6 | B8: 金融六 | C8: 杨朝娟
A9: 7 | B9: 金融七 | C9: 杨梅
A10: 8 | B10: 金融八 | C10: 杨梅
A11: 9 | B11: 金融九 | C11: 杨梅
A12: 10 | B12: 金融十 | C12: 杨梅 | E12: 1 | I12: =AVERAGE(D12:H12) -> 1 | J12: =RANK(I12,$I$3:$I$65) -> 1
A13: 11 | B13: CFA | C13: 杨梅 | G13: 0.97402597 | I13: =AVERAGE(D13:H13) -> 0.97402597 | J13: =RANK(I13,$I$3:$I$65) -> 19
A14: 12 | B14: 经济一 | C14: 原芳
A15: 13 | B15: 经济二 | C15: 原芳
A16: 14 | B16: 贸经一 | C16: 卢芳冰
A17: 15 | B17: 贸经二 | C17: 唐燕
A18: 16 | B18: 经统 | C18: 何春
A19: 17 | B19: 网新一 | C19: 汤璐嘉
A20: 18 | B20: 网新二 | C20: 汤璐嘉
A21: 19 | B21: 会展一 | C21: 冉光波
A22: 20 | B22: 会展二 | C22: 冉光波
A23: 21 | B23: 国贸 | C23: 寸家菊
A24: 22 | B24: 国商 | C24: 李慧 | G24: 0.91666667 | I24: =AVERAGE(D24:H24) -> 0.91666667 | J24: =RANK(I24,$I$3:$I$65) -> 22
A25: 23 | B25: 会计一 | C25: 谭白冰
A26: 24 | B26: 会计二 | C26: 谭白冰
A27: 25 | B27: 会计三 | C27: 谭白冰 | D27: 1 | I27: =AVERAGE(D27:H27) -> 1 | J27: =RANK(I27,$I$3:$I$65) -> 1
A28: 26 | B28: 会计四 | C28: 谭白冰 | D28: 1 | I28: =AVERAGE(D28:H28) -> 1 | J28: =RANK(I28,$I$3:$I$65) -> 1
A29: 27 | B29: 会计五 | C29: 谭白冰
A30: 28 | B30: 会计六 | C30: 谭白冰
A31: 29 | B31: 会计七 | C31: 王秀霞 | D31: 0.98780488 | I31: =AVERAGE(D31:H31) -> 0.98780488 | J31: =RANK(I31,$I$3:$I$65) -> 15
A32: 30 | B32: 会计八 | C32: 韩佳佚 | D32: 0.98780488 | I32: =AVERAGE(D32:H32) -> 0.98780488 | J32: =RANK(I32,$I$3:$I$65) -> 15
A33: 31 | B33: 会计九 | C33: 唐嘉忆
A34: 32 | B34: 审计一 | C34: 游登贵 | G34: 0.98989899 | I34: =AVERAGE(D34:H34) -> 0.98989899 | J34: =RANK(I34,$I$3:$I$65) -> 13
A35: 33 | B35: 审计二 | C35: 游登贵 | G35: 0.98989899 | I35: =AVERAGE(D35:H35) -> 0.98989899 | J35: =RANK(I35,$I$3:$I$65) -> 13
A36: 34 | B36: 审计三 | C36: 曹莉莉
A37: 35 | B37: 审计四 | C37: 范雪林
A38: 36 | B38: 税收一 | C38: 李爽 | E38: 0.97727273 | I38: =AVERAGE(D38:H38) -> 0.97727273 | J38: =RANK(I38,$I$3:$I$65) -> 17
A39: 37 | B39: 税收二 | C39: 田翰灵
A40: 38 | B40: ACCA | C40: 刘贤洲
...

Sheet 总表
A1: 学生课堂出勤统计表（第四周）
A2: 院别 | B2: 年级 | C2: 班级 | D2: 辅导员 | E2: 各班平均出勤率 | F2: 各班出勤率排名
A3: 金融学院 | B3: 15 | C3: 银管一 | D3: 李静 | E3: ='15级'!I3 -> 0.86904762 | F3: ='15级'!J3 -> 18
C4: 银管二 | D4: 孙鹤 | E4: ='15级'!I4 -> 0.86904762 | F4: ='15级'!J4 -> 18
C5: 银管三 | D5: 于成江 | E5: ='15级'!I5 -> 0.90769231 | F5: ='15级'!J5 -> 10
C6: 期证一 | D6: 张孝英
C7: 期证二 | D7: 张孝英
C8: 车险 | D8: 蔡婷
C9: 理财 | D9: 蔡婷 | E9: ='15级'!I9 -> 0.84090909 | F9: ='15级'!J9 -> 22
C10: CFA | D10: 张玉华 | E10: ='15级'!I10 -> 0.61904762 | F10: ='15级'!J10 -> 25
C11: 信用一 | D11: 李英
C12: 信用二 | D12: 李英
A13: 经济学院 | B13: 15 | C13: 贸经一 | D13: 杨邓旗
C14: 贸经二 | D14: 杨邓旗
C15: 经统一 | D15: 杨邓旗 | E15: ='15级'!I15 -> 0.98701299 | F15: ='15级'!J15 -> 1
C16: 经统二 | D16: 杨邓旗 | E16: ='15级'!I16 -> 0.98701299 | F16: ='15级'!J16 -> 1
C17: 经济一 | D17: 乐晓勇 | E17: ='15级'!I17 -> 0.90540541 | F17: ='15级'!J17 -> 12
C18: 经济二 | D18: 夏文瑞 | E18: ='15级'!I18 -> 0.90540541 | F18: ='15级'!J18 -> 12
A19: 商务学院 | B19: 15 | C19: 会展一 | D19: 冉光波 | E19: ='15级'!I19 -> 0.9375 | F19: ='15级'!J19 -> 8
C20: 会展二 | D20: 冉光波 | E20: ='15级'!I20 -> 0.9375 | F20: ='15级'!J20 -> 8
C21: 国贸一 | D21: 冉光波
C22: 国贸二 | D22: 冉光波
C23: 国商 | D23: 高雪莲
C24: 网新二 | D24: 杨邓旗
C25: 网新一 | D25: 袁毅
A26: 管工学院 | B26: 15 | C26: 工管二 | D26: 胡翠 | E26: ='15级'!I26 -> 0.8974359 | F26: ='15级'!J26 -> 14
C27: 房产一 | D27: 刘有沛 | E27: ='15级'!I27 -> 0.93846154 | F27: ='15级'!J27 -> 6
C28: 物业 | D28: 冯晖 | E28: ='15级'!I28 -> 0.90769231 | F28: ='15级'!J28 -> 10
C29: 房产二 | D29: 练丹 | E29: ='15级'!I29 -> 0.93846154 | F29: ='15级'!J29 -> 6
C30: 工管一 | D30: 练丹 | E30: ='15级'!I30 -> 0.8974359 | F30: ='15级'!J30 -> 14
A31: 信工学院 | B31: 15 | C31: 土管二 | D31: 汪建军
C32: 信息 | D32: 徐丹丹 | E32: ='15级'!I32 -> 0.96969697 | F32: ='15级'!J32 -> 3
C33: 土管一 | D33: 姜采妮
C34: 城管 | D34: 马惠香
A35: 会计学院 | B35: 15 | C35: ACCA | D35: 李秋河 | E35: ='15级'!I35 -> 0.61904762 | F35: ='15级'!J35 -> 25
C36: 会计一 | D36: 李秋河 | E36: ='15级'!I36 -> 0.9537037 | F36: ='15级'!J36 -> 4
C37: 会计二 | D37: 李秋河 | E37: ='15级'!I37 -> 0.9537037 | F37: ='15级'!J37 -> 4
C38: 会计三 | D38: 李秋河
C39: 审计一 | D39: 陈倩茹
C40: 审计二 | D40: 陈倩茹
...
