Workbook

Sheet 15级
A1: 2017-2018-2（第四周）
A2: 序号 | B2: 15级班级 | C2: 辅导员 | D2: 3.26 | E2: 3.27 | F2: 3.28 | G2: 3.29 | H2: 3.3 | I2: 平均出勤率 | J2: 排名
A3: 1 | B3: 银管一 | C3: 李静 | H3: 0.86904762 | I3: =AVERAGE(D3:H3) -> 0.86904762 | J3: =RANK(I3,$I$3:$I$60) -> 18
A4: 2 | B4: 银管二 | C4: 孙鹤 | H4: 0.86904762 | I4: =AVERAGE(D4:H4) -> 0.86904762 | J4: =RANK(I4,$I$3:$I$60) -> 18
A5: 3 | B5: 银管三 | C5: 于成江 | H5: 0.90769231 | I5: =AVERAGE(D5:H5) -> 0.90769231 | J5: =RANK(I5,$I$3:$I$60) -> 10
A6: 4 | B6: 期证一 | C6: 张孝英
A7: 5 | B7: 期证二 | C7: 张孝英
A8: 6 | B8: 车险 | C8: 蔡婷
A9: 7 | B9: 理财 | C9: 蔡婷 | E9: 0.84090909 | I9: =AVERAGE(D9:H9) -> 0.84090909 | J9: =RANK(I9,$I$3:$I$60) -> 22
A10: 8 | B10: CFA | C10: 张玉华 | F10: 0.61904762 | I10: =AVERAGE(D10:H10) -> 0.61904762 | J10: =RANK(I10,$I$3:$I$60) -> 25
A11: 9 | B11: 信用一 | C11: 李英
A12: 10 | B12: 信用二 | C12: 李英
A13: 11 | B13: 贸经一 | C13: 杨邓旗
A14: 12 | B14: 贸经二 | C14: 杨邓旗
A15: 13 | B15: 经统一 | C15: 杨邓旗 | D15: 0.98701299 | I15: =AVERAGE(D15:H15) -> 0.98701299 | J15: =RANK(I15,$I$3:$I$60) -> 1
A16: 14 | B16: 经统二 | C16: 杨邓旗 | D16: 0.98701299 | I16: =AVERAGE(D16:H16) -> 0.98701299 | J16: =RANK(I16,$I$3:$I$60) -> 1
A17: 15 | B17: 经济一 | C17: 乐晓勇 | F17: 0.90540541 | I17: =AVERAGE(D17:H17) -> 0.90540541 | J17: =RANK(I17,$I$3:$I$60) -> 12
A18: 16 | B18: 经济二 | C18: 夏文瑞 | F18: 0.90540541 | I18: =AVERAGE(D18:H18) -> 0.90540541 | J18: =RANK(I18,$I$3:$I$60) -> 12
A19: 17 | B19: 会展一 | C19: 冉光波 | E19: 0.95833333 | G19: 0.91666667 | I19: =AVERAGE(D19:H19) -> 0.9375 | J19: =RANK(I19,$I$3:$I$60) -> 8
A20: 18 | B20: 会展二 | C20: 冉光波 | E20: 0.95833333 | G20: 0.91666667 | I20: =AVERAGE(D20:H20) -> 0.9375 | J20: =RANK(I20,$I$3:$I$60) -> 8
A21: 19 | B21: 国贸一 | C21: 冉光波
A22: 20 | B22: 国贸二 | C22: 冉光波
A23: 21 | B23: 国商 | C23: 高雪莲
A24: 22 | B24: 网新二 | C24: 杨邓旗
A25: 23 | B25: 网新一 | C25: 袁毅
A26: 24 | B26: 工管二 | C26: 胡翠 | D26: 0.8974359 | I26: =AVERAGE(D26:H26) -> 0.8974359 | J26: =RANK(I26,$I$3:$I$60) -> 14
A27: 25 | B27: 房产一 | C27: 刘有沛 | D27: 0.93846154 | I27: =AVERAGE(D27:H27) -> 0.93846154 | J27: =RANK(I27,$I$3:$I$60) -> 6
A28: 26 | B28: 物业 | C28: 冯晖 | H28: 0.90769231 | I28: =AVERAGE(D28:H28) -> 0.90769231 | J28: =RANK(I28,$I$3:$I$60) -> 10
A29: 27 | B29: 房产二 | C29: 练丹 | D29: 0.93846154 | I29: =AVERAGE(D29:H29) -> 0.93846154 | J29: =RANK(I29,$I$3:$I$60) -> 6
A30: 28 | B30: 工管一 | C30: 练丹 | D30: 0.8974359 | I30: =AVERAGE(D30:H30) -> 0.8974359 | J30: =RANK(I30,$I$3:$I$60) -> 14
A31: 29 | B31: 土管二 | C31: 汪建军
A32: 30 | B32: 信息 | C32: 徐丹丹 | D32: 0.96969697 | I32: =AVERAGE(D32:H32) -> 0.96969697 | J32: =RANK(I32,$I$3:$I$60) -> 3
A33: 31 | B33: 土管一 | C33: 姜采妮
A34: 32 | B34: 城管 | C34: 马惠香
A35: 33 | B35: ACCA | C35: 李秋河 | F35: 0.61904762 | I35: =AVERAGE(D35:H35) -> 0.61904762 | J35: =RANK(I35,$I$3:$I$60) -> 25
A36: 34 | B36: 会计一 | C36: 李秋河 | E36: 0.9537037 | I36: =AVERAGE(D36:H36) -> 0.9537037 | J36: =RANK(I36,$I$3:$I$60) -> 4
A37: 35 | B37: 会计二 | C37: 李秋河 | E37: 0.9537037 | I37: =AVERAGE(D37:H37) -> 0.9537037 | J37: =RANK(I37,$I$3:$I$60) -> 4
A38: 36 | B38: 会计三 | C38: 李秋河
A39: 37 | B39: 审计一 | C39: 陈倩茹
A40: 38 | B40: 审计二 | C40: 陈倩茹
A41: 39 | B41: 审计三 | C41: 陈倩茹
A42: 40 | B42: 审计四 | C42: 陈倩茹
A43: 41 | B43: 税收一 | C43: 蔡婷 | E43: 0.83823529 | I43: =AVERAGE(D43:H43) -> 0.83823529 | J43: =RANK(I43,$I$3:$I$60) -> 23
A44: 42 | B44: 税收二 | C44: 蔡婷 | E44: 0.83823529 | I44: =AVERAGE(D44:H44) -> 0.83823529 | J44: =RANK(I44,$I$3:$I$60) -> 23
A45: 43 | B45: 会计四 | C45: 周强 | H45: 0.85981308 | I45: =AVERAGE(D45:H45) -> 0.85981308 | J45: =RANK(I45,$I$3:$I$60) -> 20
A46: 44 | B46: 会计五 | C46: 陈元媛 | H46: 0.85981308 | I46: =AVERAGE(D46:H46) -> 0.85981308 | J46: =RANK(I46,$I$3:$I$60) -> 20
A47: 45 | B47: 会计六 | C47: 王婧婧
A48: 46 | B48: 投资一 | C48: 向芸
A49: 47 | B49: 投资二 | C49: 蔡婷
A50: 48 | B50: 财务一 | C50: 薛超 | H50: 0.89583333 | I50: =AVERAGE(D50:H50) -> 0.89583333 | J50: =RANK(I50,$I$3:$I$60) -> 16
A51: 49 | B51: 财务二 | C51: 薛超 | H51: 0.89583333 | I51: =AVERAGE(D51:H51) -> 0.89583333 | J51: =RANK(I51,$I$3:$I$60) -> 16
A52: 50 | B52: 资评一 | C52: 李秋河
A53: 51 | B53: 资评二 | C53: 李秋河
A54: 52 | B54: 财务三 | C54: 唐莉
A55: 53 | B55: 财务四 | C55: 韩冬梅
A56: 54 | B56: 物流一 | C56: 杨超
A57: 55 | B57: 物流二 | C57: 王艺燃
A58: 56 | B58: 物流三 | C58: 杨超
A59: 57 | B59: 电商 | C59: 杨超
A60: 58 | B60: 工业工程 | C60: 吴宗书

Sheet 16级
A1: 2017-2018-2（第四周）
A2: 序号 | B2: 16级班级 | C2: 辅导员 | D2: 3.26 | E2: 3.27 | F2: 3.28 | G2: 3.29 | H2: 3.3 | I2: 平均出勤率 | J2: 排名
A3: 1 | B3: 银管一 | C3: 马秋婵 | D3: 0.99 | I3: =AVERAGE(D3:H3) -> 0.99 | J3: =RANK(I3,$I$3:$I$65) -> 1
A4: 2 | B4: 银管二 | C4: 马秋婵 | D4: 0.99 | I4: =AVERAGE(D4:H4) -> 0.99 | J4: =RANK(I4,$I$3:$I$65) -> 1
A5: 3 | B5: 期证一 | C5: 马秋婵
A6: 4 | B6: 期证二 | C6: 马秋婵
A7: 5 | B7: 期证三 | C7: 马秋婵
A8: 6 | B8: 信用一 | C8: 郑志欣 | H8: 0.9375 | I8: =AVERAGE(D8:H8) -> 0.9375 | J8: =RANK(I8,$I$3:$I$65) -> 17
A9: 7 | B9: 信用二 | C9: 郑志欣 | H9: 0.9375 | I9: =AVERAGE(D9:H9) -> 0.9375 | J9: =RANK(I9,$I$3:$I$65) -> 17
A10: 8 | B10: 车险 | C10: 郑志欣 | F10: 0.95714286 | I10: =AVERAGE(D10:H10) -> 0.95714286 | J10: =RANK(I10,$I$3:$I$65) -> 9
A11: 9 | B11: 理财 | C11: 郑志欣 | F11: 0.95714286 | I11: =AVERAGE(D11:H11) -> 0.95714286 | J11: =RANK(I11,$I$3:$I$65) -> 9
A12: 10 | B12: 16CFA | C12: 林姝妤 | F12: 0.95833333 | I12: =AVERAGE(D12:H12) -> 0.95833333 | J12: =RANK(I12,$I$3:$I$65) -> 8
A13: 11 | B13: 经济一 | C13: 原芳
A14: 12 | B14: 经济二 | C14: 原芳
A15: 13 | B15: 经统一 | C15: 原芳 | G15: 0.93846154 | I15: =AVERAGE(D15:H15) -> 0.93846154 | J15: =RANK(I15,$I$3:$I$65) -> 15
A16: 14 | B16: 经统二 | C16: 原芳 | G16: 0.93846154 | I16: =AVERAGE(D16:H16) -> 0.93846154 | J16: =RANK(I16,$I$3:$I$65) -> 15
A17: 15 | B17: 贸经一 | C17: 刘小双 | F17: 0.94117647 | I17: =AVERAGE(D17:H17) -> 0.94117647 | J17: =RANK(I17,$I$3:$I$65) -> 13
A18: 16 | B18: 贸经二 | C18: 潘佳 | F18: 0.94117647 | I18: =AVERAGE(D18:H18) -> 0.94117647 | J18: =RANK(I18,$I$3:$I$65) -> 13
A19: 17 | B19: 国商一 | C19: 杨政
A20: 18 | B20: 国商二 | C20: 邓雅娴
A21: 19 | B21: 会展一 | C21: 张文博 | G21: 0.94202899 | I21: =AVERAGE(D21:H21) -> 0.94202899 | J21: =RANK(I21,$I$3:$I$65) -> 11
A22: 20 | B22: 会展二 | C22: 冉光波 | G22: 0.94202899 | I22: =AVERAGE(D22:H22) -> 0.94202899 | J22: =RANK(I22,$I$3:$I$65) -> 11
A23: 21 | B23: 国贸一 | C23: 徐繁生 | H23: 0.91463415 | I23: =AVERAGE(D23:H23) -> 0.91463415 | J23: =RANK(I23,$I$3:$I$65) -> 19
A24: 22 | B24: 国贸二 | C24: 冉光波 | H24: 0.91463415 | I24: =AVERAGE(D24:H24) -> 0.91463415 | J24: =RANK(I24,$I$3:$I$65) -> 19
A25: 23 | B25: 网新一 | C25: 杨政
A26: 24 | B26: 网新二 | C26: 曹型丽
A27: 25 | B27: 会计一 | C27: 颜萌萌
A28: 26 | B28: 会计二 | C28: 颜萌萌
A29: 27 | B29: 会计三 | C29: 颜萌萌
A30: 28 | B30: 会计四 | C30: 颜萌萌
A31: 29 | B31: 会计五 | C31: 陈影
A32: 30 | B32: 会计六 | C32: 颜萌萌
A33: 31 | B33: 会计七 | C33: 王立华
A34: 32 | B34: 会计八 | C34: 颜萌萌
A35: 33 | B35: 审计一 | C35: 陈倩茹
A36: 34 | B36: 审计二 | C36: 陈倩茹
A37: 35 | B37: 审计三 | C37: 刘璐静 | G37: 0.97777778 | I37: =AVERAGE(D37:H37) -> 0.97777778 | J37: =RANK(I37,$I$3:$I$65) -> 5
A38: 36 | B38: 审计四 | C38: 李军 | G38: 0.97777778 | I38: =AVERAGE(D38:H38) -> 0.97777778 | J38: =RANK(I38,$I$3:$I$65) -> 5
A39: 37 | B39: 税收一 | C39: 李刚
A40: 38 | B40: 税收二 | C40: 刘艳娇
A41: 39 | B41: 16ACCA | C41: 杨瑞丽
A42: 40 | B42: 房产 | C42: 邹江 | E42: 0.97297297 | I42: =AVERAGE(D42:H42) -> 0.97297297 | J42: =RANK(I42,$I$3:$I$65) -> 7
A43: 41 | B43: 物业 | C43: 王玲艳
A44: 42 | B44: 工程一 | C44: 汪建军
A45: 43 | B45: 工程二 | C45: 汪建军
A46: 44 | B46: 土管一 | C46: 汪建军
A47: 45 | B47: 土管二 | C47: 汪建军
A48: 46 | B48: 城管 | C48: 李辉 | F48: 0.84745763 | I48: =AVERAGE(D48:H48) -> 0.84745763 | J48: =RANK(I48,$I$3:$I$65) -> 23
A49: 47 | B49: 信息 | C49: 梁建良 | F49: 0.84745763 | H49: 0.91428571 | I49: =AVERAGE(D49:H49) -> 0.88087167 | J49: =RANK(I49,$I$3:$I$65) -> 22
A50: 48 | B50: 物流工程 | C50: 杨超
A51: 49 | B51: 物流一 | C51: 肖璇
A52: 50 | B52: 物流二 | C52: 夏治禹
A53: 51 | B53: 物流三 | C53: 马建龙
A54: 52 | B54: 物流四 | C54: 吴涵
A55: 53 | B55: 工业 | C55: 田睿 | H55: 0.89655172 | I55: =AVERAGE(D55:H55) -> 0.89655172 | J55: =RANK(I55,$I$3:$I$65) -> 21
A56: 54 | B56: 电商一 | C56: 杨超
A57: 55 | B57: 电商二 | C57: 李占凤
A58: 56 | B58: 投资一 | C58: 张攀红
A59: 57 | B59: 投资二 | C59: 宋钰静
A60: 58 | B60: 财务一 | C60: 张秋玉
A61: 59 | B61: 财务二 | C61: 张秋玉
A62: 60 | B62: 财务三 | C62: 张秋玉 | G62: 0.98924731 | I62: =AVERAGE(D62:H62) -> 0.98924731 | J62: =RANK(I62,$I$3:$I$65) -> 3
A63: 61 | B63: 财务四 | C63: 张秋玉 | G63: 0.98924731 | I63: =AVERAGE(D63:H63) -> 0.98924731 | J63: =RANK(I63,$I$3:$I$65) -> 3
A64: 62 | B64: 资评一 | C64: 张秋玉
A65: 63 | B65: 资评二 | C65: 张秋玉

Sheet 17级
A1: 2017-2018-2（第四周）
A2: 序号 | B2: 班级 | C2: 辅导员 | D2: 3.26 | E2: 3.27 | F2: 3.28 | G2: 3.29 | H2: 3.3 | I2: 平均出勤率 | J2: 排名
A3: 1 | B3: 金融一 | C3: 刘官青 | E3: 1 | I3: =AVERAGE(D3:H3) -> 1 | J3: =RANK(I3,$I$3:$I$65) -> 1
A4: 2 | B4: 金融二 | C4: 刘官青
A5: 3 | B5: 金融三 | C5: 刘官青 | E5: 1 | I5: =AVERAGE(D5:H5) -> 1 | J5: =RANK(I5,$I$3:$I$65) -> 1
A6: 4 | B6: 金融四 | C6: 刘官青 | E6: 1 | I6: =AVERAGE(D6:H6) -> 1 | J6: =RANK(I6,$I$3:$I$65) -> 1
A7: 5 | B7: 金融五 | C7: 马玺渊
A8: 6 | B8: 金融六 | C8: 杨朝娟
A9: 7 | B9: 金融七 | C9: 杨梅
A10: 8 | B10: 金融八 | C10: 杨梅
A11: 9 | B11: 金融九 | C11: 杨梅
A12: 10 | B12: 金融十 | C12: 杨梅 | E12: 1 | I12: =AVERAGE(D12:H12) -> 1 | J12: =RANK(I12,$I$3:$I$65) -> 1
A13: 11 | B13: CFA | C13: 杨梅 | G13: 0.97402597 | I13: =AVERAGE(D13:H13) -> 0.97402597 | J13: =RANK(I13,$I$3:$I$65) -> 19
A14: 12 | B14: 经济一 | C14: 原芳
A15: 13 | B15: 经济二 | C15: 原芳
A16: 14 | B16: 贸经一 | C16: 卢芳冰
A17: 15 | B17: 贸经二 | C17: 唐燕
A18: 16 | B18: 经统 | C18: 何春
A19: 17 | B19: 网新一 | C19: 汤璐嘉
A20: 18 | B20: 网新二 | C20: 汤璐嘉
A21: 19 | B21: 会展一 | C21: 冉光波
A22: 20 | B22: 会展二 | C22: 冉光波
A23: 21 | B23: 国贸 | C23: 寸家菊
A24: 22 | B24: 国商 | C24: 李慧 | G24: 0.91666667 | I24: =AVERAGE(D24:H24) -> 0.91666667 | J24: =RANK(I24,$I$3:$I$65) -> 22
A25: 23 | B25: 会计一 | C25: 谭白冰
A26: 24 | B26: 会计二 | C26: 谭白冰
A27: 25 | B27: 会计三 | C27: 谭白冰 | D27: 1 | I27: =AVERAGE(D27:H27) -> 1 | J27: =RANK(I27,$I$3:$I$65) -> 1
A28: 26 | B28: 会计四 | C28: 谭白冰 | D28: 1 | I28: =AVERAGE(D28:H28) -> 1 | J28: =RANK(I28,$I$3:$I$65) -> 1
A29: 27 | B29: 会计五 | C29: 谭白冰
A30: 28 | B30: 会计六 | C30: 谭白冰
A31: 29 | B31: 会计七 | C31: 王秀霞 | D31: 0.98780488 | I31: =AVERAGE(D31:H31) -> 0.98780488 | J31: =RANK(I31,$I$3:$I$65) -> 15
A32: 30 | B32: 会计八 | C32: 韩佳佚 | D32: 0.98780488 | I32: =AVERAGE(D32:H32) -> 0.98780488 | J32: =RANK(I32,$I$3:$I$65) -> 15
A33: 31 | B33: 会计九 | C33: 唐嘉忆
A34: 32 | B34: 审计一 | C34: 游登贵 | G34: 0.98989899 | I34: =AVERAGE(D34:H34) -> 0.98989899 | J34: =RANK(I34,$I$3:$I$65) -> 13
A35: 33 | B35: 审计二 | C35: 游登贵 | G35: 0.98989899 | I35: =AVERAGE(D35:H35) -> 0.98989899 | J35: =RANK(I35,$I$3:$I$65) -> 13
A36: 34 | B36: 审计三 | C36: 曹莉莉
A37: 35 | B37: 审计四 | C37: 范雪林
A38: 36 | B38: 税收一 | C38: 李爽 | E38: 0.97727273 | I38: =AVERAGE(D38:H38) -> 0.97727273 | J38: =RANK(I38,$I$3:$I$65) -> 17
A39: 37 | B39: 税收二 | C39: 田翰灵
A40: 38 | B40: ACCA | C40: 刘贤洲
A41: 39 | B41: 工程一 | C41: 练丹 | F41: 0.74698795 | I41: =AVERAGE(D41:H41) -> 0.74698795 | J41: =RANK(I41,$I$3:$I$65) -> 23
A42: 40 | B42: 工程二 | C42: 练丹 | F42: 0.74698795 | I42: =AVERAGE(D42:H42) -> 0.74698795 | J42: =RANK(I42,$I$3:$I$65) -> 23
A43: 41 | B43: 物业 | C43: 练丹
A44: 42 | B44: 房产 | C44: 练丹
A45: 43 | B45: 城管 | C45: 常晓薇 | G45: 0.97402597 | I45: =AVERAGE(D45:H45) -> 0.97402597 | J45: =RANK(I45,$I$3:$I$65) -> 19
A46: 44 | B46: 土管 | C46: 何建旭
A47: 45 | B47: 信息 | C47: 何建旭
A48: 46 | B48: 软件 | C48: 何建旭 | F48: 0.96491228 | I48: =AVERAGE(D48:H48) -> 0.96491228 | J48: =RANK(I48,$I$3:$I$65) -> 21
A49: 47 | B49: 惠软一 | C49: 何建旭
A50: 48 | B50: 惠软二 | C50: 梁建良
A51: 49 | B51: 物流一 | C51: 刘燕 | G51: 1 | I51: =AVERAGE(D51:H51) -> 1 | J51: =RANK(I51,$I$3:$I$65) -> 1
A52: 50 | B52: 物流二 | C52: 刘燕 | G52: 1 | I52: =AVERAGE(D52:H52) -> 1 | J52: =RANK(I52,$I$3:$I$65) -> 1
A53: 51 | B53: 物流三 | C53: 刘燕 | D53: 1 | I53: =AVERAGE(D53:H53) -> 1 | J53: =RANK(I53,$I$3:$I$65) -> 1
A54: 52 | B54: 物流四 | C54: 刘燕 | E54: 1 | I54: =AVERAGE(D54:H54) -> 1 | J54: =RANK(I54,$I$3:$I$65) -> 1
A55: 53 | B55: 电商一 | C55: 冯海涛
A56: 54 | B56: 电商二 | C56: 冯海涛
A57: 55 | B57: 物流工程 | C57: 冯海涛
A58: 56 | B58: 工业工程 | C58: 冯海涛
A59: 57 | B59: 财务一 | C59: 姚骏 | D59: 1 | I59: =AVERAGE(D59:H59) -> 1 | J59: =RANK(I59,$I$3:$I$65) -> 1
A60: 58 | B60: 财务二 | C60: 姚骏 | D60: 1 | I60: =AVERAGE(D60:H60) -> 1 | J60: =RANK(I60,$I$3:$I$65) -> 1
A61: 59 | B61: 财务三 | C61: 姚骏
A62: 60 | B62: 财务四 | C62: 姚骏 | D62: 0.97619048 | I62: =AVERAGE(D62:H62) -> 0.97619048 | J62: =RANK(I62,$I$3:$I$65) -> 18
A63: 61 | B63: 资评一 | C63: 姚骏
A64: 62 | B64: 资评二 | C64: 姚骏
A65: 63 | B65: 财务五 | C65: 宋钰静

Sheet 总表
A1: 学生课堂出勤统计表（第四周）
A2: 院别 | B2: 年级 | C2: 班级 | D2: 辅导员 | E2: 各班平均出勤率 | F2: 各班出勤率排名
A3: 金融学院 | B3: 15 | C3: 银管一 | D3: 李静 | E3: ='15级'!I3 -> 0.86904762 | F3: ='15级'!J3 -> 18
C4: 银管二 | D4: 孙鹤 | E4: ='15级'!I4 -> 0.86904762 | F4: ='15级'!J4 -> 18
C5: 银管三 | D5: 于成江 | E5: ='15级'!I5 -> 0.90769231 | F5: ='15级'!J5 -> 10
C6: 期证一 | D6: 张孝英
C7: 期证二 | D7: 张孝英
C8: 车险 | D8: 蔡婷
C9: 理财 | D9: 蔡婷 | E9: ='15级'!I9 -> 0.84090909 | F9: ='15级'!J9 -> 22
C10: CFA | D10: 张玉华 | E10: ='15级'!I10 -> 0.61904762 | F10: ='15级'!J10 -> 25
C11: 信用一 | D11: 李英
C12: 信用二 | D12: 李英
A13: 经济学院 | B13: 15 | C13: 贸经一 | D13: 杨邓旗
C14: 贸经二 | D14: 杨邓旗
C15: 经统一 | D15: 杨邓旗 | E15: ='15级'!I15 -> 0.98701299 | F15: ='15级'!J15 -> 1
C16: 经统二 | D16: 杨邓旗 | E16: ='15级'!I16 -> 0.98701299 | F16: ='15级'!J16 -> 1
C17: 经济一 | D17: 乐晓勇 | E17: ='15级'!I17 -> 0.90540541 | F17: ='15级'!J17 -> 12
C18: 经济二 | D18: 夏文瑞 | E18: ='15级'!I18 -> 0.90540541 | F18: ='15级'!J18 -> 12
A19: 商务学院 | B19: 15 | C19: 会展一 | D19: 冉光波 | E19: ='15级'!I19 -> 0.9375 | F19: ='15级'!J19 -> 8
C20: 会展二 | D20: 冉光波 | E20: ='15级'!I20 -> 0.9375 | F20: ='15级'!J20 -> 8
C21: 国贸一 | D21: 冉光波
C22: 国贸二 | D22: 冉光波
C23: 国商 | D23: 高雪莲
C24: 网新二 | D24: 杨邓旗
C25: 网新一 | D25: 袁毅
A26: 管工学院 | B26: 15 | C26: 工管二 | D26: 胡翠 | E26: ='15级'!I26 -> 0.8974359 | F26: ='15级'!J26 -> 14
C27: 房产一 | D27: 刘有沛 | E27: ='15级'!I27 -> 0.93846154 | F27: ='15级'!J27 -> 6
C28: 物业 | D28: 冯晖 | E28: ='15级'!I28 -> 0.90769231 | F28: ='15级'!J28 -> 10
C29: 房产二 | D29: 练丹 | E29: ='15级'!I29 -> 0.93846154 | F29: ='15级'!J29 -> 6
C30: 工管一 | D30: 练丹 | E30: ='15级'!I30 -> 0.8974359 | F30: ='15级'!J30 -> 14
A31: 信工学院 | B31: 15 | C31: 土管二 | D31: 汪建军
C32: 信息 | D32: 徐丹丹 | E32: ='15级'!I32 -> 0.96969697 | F32: ='15级'!J32 -> 3
C33: 土管一 | D33: 姜采妮
C34: 城管 | D34: 马惠香
A35: 会计学院 | B35: 15 | C35: ACCA | D35: 李秋河 | E35: ='15级'!I35 -> 0.61904762 | F35: ='15级'!J35 -> 25
C36: 会计一 | D36: 李秋河 | E36: ='15级'!I36 -> 0.9537037 | F36: ='15级'!J36 -> 4
C37: 会计二 | D37: 李秋河 | E37: ='15级'!I37 -> 0.9537037 | F37: ='15级'!J37 -> 4
C38: 会计三 | D38: 李秋河
C39: 审计一 | D39: 陈倩茹
C40: 审计二 | D40: 陈倩茹
C41: 审计三 | D41: 陈倩茹
C42: 审计四 | D42: 陈倩茹
C43: 税收一 | D43: 蔡婷 | E43: ='15级'!I43 -> 0.83823529 | F43: ='15级'!J43 -> 23
C44: 税收二 | D44: 蔡婷 | E44: ='15级'!I44 -> 0.83823529 | F44: ='15级'!J44 -> 23
C45: 会计四 | D45: 周强 | E45: ='15级'!I45 -> 0.85981308 | F45: ='15级'!J45 -> 20
C46: 会计五 | D46: 陈元媛 | E46: ='15级'!I46 -> 0.85981308 | F46: ='15级'!J46 -> 20
C47: 会计六 | D47: 王婧婧
A48: 财管学院 | B48: 15 | C48: 投资一 | D48: 向芸
C49: 投资二 | D49: 蔡婷
C50: 财务一 | D50: 薛超 | E50: ='15级'!I50 -> 0.89583333 | F50: ='15级'!J50 -> 16
C51: 财务二 | D51: 薛超 | E51: ='15级'!I51 -> 0.89583333 | F51: ='15级'!J51 -> 16
C52: 资评一 | D52: 李秋河
C53: 资评二 | D53: 李秋河
C54: 财务三 | D54: 唐莉
C55: 财务四 | D55: 韩冬梅
A56: 物工学院 | B56: 15 | C56: 物流一 | D56: 杨超
C57: 物流二 | D57: 王艺燃
C58: 物流三 | D58: 杨超
C59: 电商 | D59: 杨超
C60: 工业工程 | D60: 吴宗书
A62: 金融学院 | B62: 16 | C62: 银管一 | D62: 马秋婵 | E62: ='16级'!I3 -> 0.99 | F62: ='16级'!J3 -> 1
C63: 银管二 | D63: 马秋婵 | E63: ='16级'!I4 -> 0.99 | F63: ='16级'!J4 -> 1
C64: 期证一 | D64: 马秋婵
C65: 期证二 | D65: 马秋婵
C66: 期证三 | D66: 马秋婵
C67: 信用一 | D67: 郑志欣 | E67: ='16级'!I8 -> 0.9375 | F67: ='16级'!J8 -> 17
C68: 信用二 | D68: 郑志欣 | E68: ='16级'!I9 -> 0.9375 | F68: ='16级'!J9 -> 17
C69: 车险 | D69: 郑志欣 | E69: ='16级'!I10 -> 0.95714286 | F69: ='16级'!J10 -> 9
C70: 理财 | D70: 郑志欣 | E70: ='16级'!I11 -> 0.95714286 | F70: ='16级'!J11 -> 9
C71: 16CFA | D71: 林姝妤 | E71: ='16级'!I12 -> 0.95833333 | F71: ='16级'!J12 -> 8
A72: 经济学院 | B72: 16 | C72: 经济一 | D72: 原芳
C73: 经济二 | D73: 原芳
C74: 经统一 | D74: 原芳 | E74: ='16级'!I15 -> 0.93846154 | F74: ='16级'!J15 -> 15
C75: 经统二 | D75: 原芳 | E75: ='16级'!I16 -> 0.93846154 | F75: ='16级'!J16 -> 15
C76: 贸经一 | D76: 刘小双 | E76: ='16级'!I17 -> 0.94117647 | F76: ='16级'!J17 -> 13
C77: 贸经二 | D77: 潘佳 | E77: ='16级'!I18 -> 0.94117647 | F77: ='16级'!J18 -> 13
A78: 商务学院 | B78: 16 | C78: 国商一 | D78: 杨政
C79: 国商二 | D79: 邓雅娴
C80: 会展一 | D80: 张文博 | E80: ='16级'!I21 -> 0.94202899 | F80: ='16级'!J21 -> 11
C81: 会展二 | D81: 冉光波 | E81: ='16级'!I22 -> 0.94202899 | F81: ='16级'!J22 -> 11
C82: 国贸一 | D82: 徐繁生 | E82: ='16级'!I23 -> 0.91463415 | F82: ='16级'!J23 -> 19
C83: 国贸二 | D83: 冉光波 | E83: ='16级'!I24 -> 0.91463415 | F83: ='16级'!J24 -> 19
C84: 网新一 | D84: 杨政
C85: 网新二 | D85: 曹型丽
A86: 会计学院 | B86: 16 | C86: 会计一 | D86: 颜萌萌
C87: 会计二 | D87: 颜萌萌
C88: 会计三 | D88: 颜萌萌
C89: 会计四 | D89: 颜萌萌
C90: 会计五 | D90: 陈影
C91: 会计六 | D91: 颜萌萌
C92: 会计七 | D92: 王立华
C93: 会计八 | D93: 颜萌萌
C94: 审计一 | D94: 陈倩茹
C95: 审计二 | D95: 陈倩茹
C96: 审计三 | D96: 刘璐静 | E96: ='16级'!I37 -> 0.97777778 | F96: ='16级'!J37 -> 5
C97: 审计四 | D97: 李军 | E97: ='16级'!I38 -> 0.97777778 | F97: ='16级'!J38 -> 5
C98: 税收一 | D98: 李刚
C99: 税收二 | D99: 刘艳娇
C100: 16ACCA | D100: 杨瑞丽
A101: 管工学院 | B101: 16 | C101: 房产 | D101: 邹江 | E101: ='16级'!I42 -> 0.97297297 | F101: ='16级'!J42 -> 7
...
